BEGIN:VCALENDAR
VERSION:2.0
PRODID:icalendar-ruby
CALSCALE:GREGORIAN
METHOD:PUBLISH
BEGIN:VEVENT
DTSTAMP:20260419T221301Z
UID:5-395749@1agscottsbluff.com
DTSTART:20260809T163000Z
DTEND:20260809T173000Z
CLASS:PUBLIC
CREATED:20260419T143649
DESCRIPTION:Sunday Worship
LAST-MODIFIED:20260419T143649
LOCATION:
SUMMARY:Sunday Worship
URL;VALUE=URI:https://1agscottsbluff.org/events/sunday-worship/2026-08-09
END:VEVENT
END:VCALENDAR
