BEGIN:VCALENDAR
VERSION:2.0
PRODID:icalendar-ruby
CALSCALE:GREGORIAN
METHOD:PUBLISH
BEGIN:VEVENT
DTSTAMP:20260420T030828Z
UID:5-396013@1agscottsbluff.com
DTSTART:20260830T163000Z
DTEND:20260830T173000Z
CLASS:PUBLIC
CREATED:20260419T181901
DESCRIPTION:Sunday Worship
LAST-MODIFIED:20260419T181901
LOCATION:
SUMMARY:Sunday Worship
URL;VALUE=URI:https://1agscottsbluff.org/events/sunday-worship/2026-08-30
END:VEVENT
END:VCALENDAR
