BEGIN:VCALENDAR
VERSION:2.0
PRODID:icalendar-ruby
CALSCALE:GREGORIAN
METHOD:PUBLISH
BEGIN:VEVENT
DTSTAMP:20260420T044627Z
UID:5-396275@1agscottsbluff.com
DTSTART:20260906T163000Z
DTEND:20260906T173000Z
CLASS:PUBLIC
CREATED:20260419T215620
DESCRIPTION:Sunday Worship
LAST-MODIFIED:20260419T215620
LOCATION:
SUMMARY:Sunday Worship
URL;VALUE=URI:https://1agscottsbluff.org/events/sunday-worship/2026-09-06
END:VEVENT
END:VCALENDAR
