BEGIN:VCALENDAR
VERSION:2.0
PRODID:icalendar-ruby
CALSCALE:GREGORIAN
METHOD:PUBLISH
BEGIN:VEVENT
DTSTAMP:20260420T075456Z
UID:5-396538@1agscottsbluff.com
DTSTART:20260920T163000Z
DTEND:20260920T173000Z
CLASS:PUBLIC
CREATED:20260420T013344
DESCRIPTION:Sunday Worship
LAST-MODIFIED:20260420T013344
LOCATION:
SUMMARY:Sunday Worship
URL;VALUE=URI:https://1agscottsbluff.org/events/sunday-worship/2026-09-20
END:VEVENT
END:VCALENDAR
