BEGIN:VCALENDAR
VERSION:2.0
PRODID:icalendar-ruby
CALSCALE:GREGORIAN
METHOD:PUBLISH
BEGIN:VEVENT
DTSTAMP:20260422T094627Z
UID:5-399671@1agscottsbluff.com
DTSTART:20260927T163000Z
DTEND:20260927T173000Z
CLASS:PUBLIC
CREATED:20260421T192314
DESCRIPTION:Sunday Worship
LAST-MODIFIED:20260421T192314
LOCATION:
SUMMARY:Sunday Worship
URL;VALUE=URI:https://1agscottsbluff.org/events/sunday-worship/2026-09-27
END:VEVENT
END:VCALENDAR
