BEGIN:VCALENDAR
VERSION:2.0
PRODID:icalendar-ruby
CALSCALE:GREGORIAN
METHOD:PUBLISH
BEGIN:VEVENT
DTSTAMP:20260422T114316Z
UID:5-399672@1agscottsbluff.com
DTSTART:20261004T163000Z
DTEND:20261004T173000Z
CLASS:PUBLIC
CREATED:20260421T192314
DESCRIPTION:Sunday Worship
LAST-MODIFIED:20260421T192314
LOCATION:
SUMMARY:Sunday Worship
URL;VALUE=URI:https://1agscottsbluff.org/events/sunday-worship/2026-10-04
END:VEVENT
END:VCALENDAR
